BEGIN:VCALENDAR
VERSION:2.0
PRODID:SchoolNow
CALSCALE:GREGORIAN
BEGIN:VEVENT
UID:1b18db9e-94ce-11ed-95ec-02c37e40c7c3
DTSTAMP:20230115T121405Z
SUMMARY:Pickleball - Feb 14th
URL;VALUE=URI:https://www.wildernesslakecdd.org/calendar/3668295/pickleball
 -feb-7th-clone
DTSTART:20230214T233000Z
DTEND:20230215T003000Z
END:VEVENT
END:VCALENDAR
