BEGIN:VCALENDAR
VERSION:2.0
PRODID:SchoolNow
CALSCALE:GREGORIAN
BEGIN:VEVENT
UID:fd0babae-94cd-11ed-89c1-02c37e40c7c3
DTSTAMP:20230115T121434Z
SUMMARY:Pickleball - Feb 9th
URL;VALUE=URI:https://www.wildernesslakecdd.org/calendar/3668294/pickleball
 -feb-9th
DTSTART:20230209T233000Z
DTEND:20230210T003000Z
END:VEVENT
END:VCALENDAR
