BEGIN:VCALENDAR
VERSION:2.0
PRODID:SchoolNow
CALSCALE:GREGORIAN
BEGIN:VEVENT
UID:e490dbd0-94cd-11ed-a3e2-02c37e40c7c3
DTSTAMP:20230115T121423Z
SUMMARY:Pickleball - Feb 7th
URL;VALUE=URI:https://www.wildernesslakecdd.org/calendar/3668293/pickleball
 -feb-7th
DTSTART:20230207T233000Z
DTEND:20230208T003000Z
END:VEVENT
END:VCALENDAR
