BEGIN:VCALENDAR
VERSION:2.0
PRODID:SchoolNow
CALSCALE:GREGORIAN
BEGIN:VEVENT
UID:cdce664c-94cd-11ed-9285-02c37e40c7c3
DTSTAMP:20230115T121414Z
SUMMARY:Pickleball - Feb 2nd
URL;VALUE=URI:https://www.wildernesslakecdd.org/calendar/3668292/pickleball
 -feb-2nd
DTSTART:20230202T233000Z
DTEND:20230203T003000Z
END:VEVENT
END:VCALENDAR
