BEGIN:VCALENDAR
VERSION:2.0
PRODID:SchoolNow
CALSCALE:GREGORIAN
BEGIN:VEVENT
UID:08954710-850a-11ed-8382-0ef0030343ab
DTSTAMP:20230115T121759Z
SUMMARY:Pickleball - Jan. 31st
URL;VALUE=URI:https://www.wildernesslakecdd.org/calendar/3651324/pickleball
 -jan-31st
DTSTART:20230131T233000Z
DTEND:20230201T003000Z
END:VEVENT
END:VCALENDAR
