BEGIN:VCALENDAR
VERSION:2.0
PRODID:SchoolNow
CALSCALE:GREGORIAN
BEGIN:VEVENT
UID:aa39ea90-8509-11ed-8581-0ef0030343ab
DTSTAMP:20221226T104007Z
SUMMARY:Yoga - Jan. 31st - Class 2
URL;VALUE=URI:https://www.wildernesslakecdd.org/calendar/3651323/yoga-jan-3
 1st-class-2
DTSTART:20230131T145500Z
DTEND:20230131T155500Z
END:VEVENT
END:VCALENDAR
