BEGIN:VCALENDAR
VERSION:2.0
PRODID:SchoolNow
CALSCALE:GREGORIAN
BEGIN:VEVENT
UID:91f16a4e-8509-11ed-a030-0ef0030343ab
DTSTAMP:20221226T103926Z
SUMMARY:Yoga - Jan. 31st - Class 1
URL;VALUE=URI:https://www.wildernesslakecdd.org/calendar/3651322/yoga-jan-3
 1st-class-1
DTSTART:20230131T134500Z
DTEND:20230131T144500Z
END:VEVENT
END:VCALENDAR
