BEGIN:VCALENDAR
VERSION:2.0
PRODID:SchoolNow
CALSCALE:GREGORIAN
BEGIN:VEVENT
UID:6a7b9c28-8509-11ed-831b-0ef0030343ab
DTSTAMP:20221226T103820Z
SUMMARY:Storytime - Jan. 30th
URL;VALUE=URI:https://www.wildernesslakecdd.org/calendar/3651321/storytime-
 jan-30th
DTSTART:20230130T150000Z
DTEND:20230130T160000Z
END:VEVENT
END:VCALENDAR
