BEGIN:VCALENDAR
VERSION:2.0
PRODID:SchoolNow
CALSCALE:GREGORIAN
BEGIN:VEVENT
UID:e0d586d4-8506-11ed-9034-0275e343fdd5
DTSTAMP:20221226T102010Z
SUMMARY:Water Aerobics - Jan. 30th
URL;VALUE=URI:https://www.wildernesslakecdd.org/calendar/3651320/water-aero
 bics-jan-30th
DTSTART:20230130T140000Z
DTEND:20230130T150000Z
END:VEVENT
END:VCALENDAR
