BEGIN:VCALENDAR
VERSION:2.0
PRODID:SchoolNow
CALSCALE:GREGORIAN
BEGIN:VEVENT
UID:b89df854-8506-11ed-91ef-0275e343fdd5
DTSTAMP:20221226T101903Z
SUMMARY:Walking & Toning - Jan. 30th
URL;VALUE=URI:https://www.wildernesslakecdd.org/calendar/3651319/walking-to
 ning-jan-30th
DTSTART:20230130T143000Z
DTEND:20230130T154500Z
END:VEVENT
END:VCALENDAR
