BEGIN:VCALENDAR
VERSION:2.0
PRODID:SchoolNow
CALSCALE:GREGORIAN
BEGIN:VEVENT
UID:4547b75a-8506-11ed-9af7-0224f908201d
DTSTAMP:20221226T101549Z
SUMMARY:Jonny Bird - Jan. 28th
URL;VALUE=URI:https://www.wildernesslakecdd.org/calendar/3651318/jonny-bird
 -jan-28th
DTSTART:20230128T114500Z
DTEND:20230128T124500Z
END:VEVENT
END:VCALENDAR
