BEGIN:VCALENDAR
VERSION:2.0
PRODID:SchoolNow
CALSCALE:GREGORIAN
BEGIN:VEVENT
UID:1d2bd44a-8506-11ed-894a-0224f908201d
DTSTAMP:20221226T101442Z
SUMMARY:Water Aerobics - Jan. 27th
URL;VALUE=URI:https://www.wildernesslakecdd.org/calendar/3651317/water-aero
 bics-jan-27th
DTSTART:20230127T140000Z
DTEND:20230127T150000Z
END:VEVENT
END:VCALENDAR
