BEGIN:VCALENDAR
VERSION:2.0
PRODID:SchoolNow
CALSCALE:GREGORIAN
BEGIN:VEVENT
UID:84145912-8505-11ed-969f-0ad087b68eb3
DTSTAMP:20221226T101025Z
SUMMARY:Walking & Toning - Jan. 27th
URL;VALUE=URI:https://www.wildernesslakecdd.org/calendar/3651316/walking-to
 ning-jan-27th
DTSTART:20230127T143000Z
DTEND:20230127T154500Z
END:VEVENT
END:VCALENDAR
