BEGIN:VCALENDAR
VERSION:2.0
PRODID:SchoolNow
CALSCALE:GREGORIAN
BEGIN:VEVENT
UID:5cea80a0-8505-11ed-a4c8-0ad087b68eb3
DTSTAMP:20230115T121746Z
SUMMARY:Pickleball - Jan. 26th
URL;VALUE=URI:https://www.wildernesslakecdd.org/calendar/3651315/pickleball
 -jan-26th
DTSTART:20230126T233000Z
DTEND:20230127T003000Z
END:VEVENT
END:VCALENDAR
