BEGIN:VCALENDAR
VERSION:2.0
PRODID:SchoolNow
CALSCALE:GREGORIAN
BEGIN:VEVENT
UID:2e41e216-8505-11ed-92da-0ad087b68eb3
DTSTAMP:20221226T100801Z
SUMMARY:Yoga - Jan. 26th - Class 2
URL;VALUE=URI:https://www.wildernesslakecdd.org/calendar/3651314/yoga-jan-2
 6th-class-2
DTSTART:20230126T145500Z
DTEND:20230126T155500Z
END:VEVENT
END:VCALENDAR
