BEGIN:VCALENDAR
VERSION:2.0
PRODID:SchoolNow
CALSCALE:GREGORIAN
BEGIN:VEVENT
UID:14a11f3e-8505-11ed-8ba3-0ad087b68eb3
DTSTAMP:20221226T100718Z
SUMMARY:Yoga - Jan. 26th - Class 1
URL;VALUE=URI:https://www.wildernesslakecdd.org/calendar/3651313/yoga-jan-2
 6th-class-1
DTSTART:20230126T134500Z
DTEND:20230126T144500Z
END:VEVENT
END:VCALENDAR
