BEGIN:VCALENDAR
VERSION:2.0
PRODID:SchoolNow
CALSCALE:GREGORIAN
BEGIN:VEVENT
UID:bc24e746-8504-11ed-a575-0a0d88bb8697
DTSTAMP:20221226T100450Z
SUMMARY:Food Truck - Jan. 25th
URL;VALUE=URI:https://www.wildernesslakecdd.org/calendar/3651312/food-truck
 -jan-25th
DTSTART:20230125T223000Z
DTEND:20230126T003000Z
END:VEVENT
END:VCALENDAR
