BEGIN:VCALENDAR
VERSION:2.0
PRODID:SchoolNow
CALSCALE:GREGORIAN
BEGIN:VEVENT
UID:8c4b6a22-8504-11ed-9e5a-0a0d88bb8697
DTSTAMP:20221226T100329Z
SUMMARY:Bible Study - Jan. 25th
URL;VALUE=URI:https://www.wildernesslakecdd.org/calendar/3651311/bible-stud
 y-jan-25th
DTSTART:20230125T150000Z
DTEND:20230125T160000Z
END:VEVENT
END:VCALENDAR
