BEGIN:VCALENDAR
VERSION:2.0
PRODID:SchoolNow
CALSCALE:GREGORIAN
BEGIN:VEVENT
UID:5b52a0fc-8504-11ed-b016-0a0d88bb8697
DTSTAMP:20221226T100207Z
SUMMARY:Walking & Toning - Jan. 25th
URL;VALUE=URI:https://www.wildernesslakecdd.org/calendar/3651310/walking-to
 ning-jan-25th
DTSTART:20230125T143000Z
DTEND:20230125T154500Z
END:VEVENT
END:VCALENDAR
