BEGIN:VCALENDAR
VERSION:2.0
PRODID:SchoolNow
CALSCALE:GREGORIAN
BEGIN:VEVENT
UID:1b99939a-8503-11ed-a5db-0ed36fcd01ef
DTSTAMP:20221226T095858Z
SUMMARY:HOA Meeting - Jan. 24th
URL;VALUE=URI:https://www.wildernesslakecdd.org/calendar/3651308/hoa-meetin
 g-jan-24th
DTSTART:20230124T233000Z
DTEND:20230125T003000Z
END:VEVENT
END:VCALENDAR
