BEGIN:VCALENDAR
VERSION:2.0
PRODID:SchoolNow
CALSCALE:GREGORIAN
BEGIN:VEVENT
UID:d1ddf2be-8502-11ed-bd04-0275e343fdd5
DTSTAMP:20230115T121734Z
SUMMARY:Pickleball - Jan. 24th
URL;VALUE=URI:https://www.wildernesslakecdd.org/calendar/3651307/pickleball
 -jan-24th
DTSTART:20230124T233000Z
DTEND:20230125T003000Z
END:VEVENT
END:VCALENDAR
