BEGIN:VCALENDAR
VERSION:2.0
PRODID:SchoolNow
CALSCALE:GREGORIAN
BEGIN:VEVENT
UID:6f10f2ae-8501-11ed-a3c1-0ad087b68eb3
DTSTAMP:20221226T094112Z
SUMMARY:Yoga - Jan. 24th - Class 2
URL;VALUE=URI:https://www.wildernesslakecdd.org/calendar/3651306/yoga-jan-2
 4th-class-2
DTSTART:20230124T145500Z
DTEND:20230124T155500Z
END:VEVENT
END:VCALENDAR
