BEGIN:VCALENDAR
VERSION:2.0
PRODID:SchoolNow
CALSCALE:GREGORIAN
BEGIN:VEVENT
UID:32adfbc2-8501-11ed-a3d7-0275e343fdd5
DTSTAMP:20221226T093931Z
SUMMARY:Yoga - Jan. 24th - Class 1
URL;VALUE=URI:https://www.wildernesslakecdd.org/calendar/3651305/yoga-jan-2
 4th-class-1
DTSTART:20230124T134500Z
DTEND:20230124T144500Z
END:VEVENT
END:VCALENDAR
