BEGIN:VCALENDAR
VERSION:2.0
PRODID:SchoolNow
CALSCALE:GREGORIAN
BEGIN:VEVENT
UID:eab584de-8500-11ed-8865-0ad087b68eb3
DTSTAMP:20221226T105438Z
SUMMARY:ARC Meeting - Jan. 23rd
URL;VALUE=URI:https://www.wildernesslakecdd.org/calendar/3651304/arc-meetin
 g-jan-23th
DTSTART:20230123T233000Z
DTEND:20230124T003000Z
END:VEVENT
END:VCALENDAR
