BEGIN:VCALENDAR
VERSION:2.0
PRODID:SchoolNow
CALSCALE:GREGORIAN
BEGIN:VEVENT
UID:ba1a0bce-8500-11ed-90c1-0a29160e2747
DTSTAMP:20221226T105415Z
SUMMARY:Storytime - Jan. 23rd
URL;VALUE=URI:https://www.wildernesslakecdd.org/calendar/3651303/storytime-
 jan-23th
DTSTART:20230123T150000Z
DTEND:20230123T160000Z
END:VEVENT
END:VCALENDAR
