BEGIN:VCALENDAR
VERSION:2.0
PRODID:SchoolNow
CALSCALE:GREGORIAN
BEGIN:VEVENT
UID:7e9188e8-8500-11ed-93f7-0a29160e2747
DTSTAMP:20221226T105352Z
SUMMARY:Water Aerobics - Jan. 23rd
URL;VALUE=URI:https://www.wildernesslakecdd.org/calendar/3651302/water-aero
 bics-jan-23th
DTSTART:20230123T140000Z
DTEND:20230123T150000Z
END:VEVENT
END:VCALENDAR
