BEGIN:VCALENDAR
VERSION:2.0
PRODID:SchoolNow
CALSCALE:GREGORIAN
BEGIN:VEVENT
UID:34e8e1b4-8500-11ed-b4dd-0ad087b68eb3
DTSTAMP:20221226T105325Z
SUMMARY:Walking & Toning - Jan. 23rd
URL;VALUE=URI:https://www.wildernesslakecdd.org/calendar/3651301/walking-to
 ning-jan-23th
DTSTART:20230123T143000Z
DTEND:20230123T154500Z
END:VEVENT
END:VCALENDAR
