BEGIN:VCALENDAR
VERSION:2.0
PRODID:SchoolNow
CALSCALE:GREGORIAN
BEGIN:VEVENT
UID:f55fce0e-84ff-11ed-bd00-0e934fd18cc5
DTSTAMP:20221226T105239Z
SUMMARY:Tennis - Jan. 21st
URL;VALUE=URI:https://www.wildernesslakecdd.org/calendar/3651300/tennis-jan
 -21th
DTSTART:20230121T140000Z
DTEND:20230121T150000Z
END:VEVENT
END:VCALENDAR
