BEGIN:VCALENDAR
VERSION:2.0
PRODID:SchoolNow
CALSCALE:GREGORIAN
BEGIN:VEVENT
UID:b5a371bc-84ff-11ed-b604-0ad087b68eb3
DTSTAMP:20221226T092851Z
SUMMARY:Water Aerobics - Jan. 20th
URL;VALUE=URI:https://www.wildernesslakecdd.org/calendar/3651299/water-aero
 bics-jan-20th
DTSTART:20230120T140000Z
DTEND:20230120T150000Z
END:VEVENT
END:VCALENDAR
