BEGIN:VCALENDAR
VERSION:2.0
PRODID:SchoolNow
CALSCALE:GREGORIAN
BEGIN:VEVENT
UID:637b044a-84ff-11ed-a50c-0224f908201d
DTSTAMP:20221226T092633Z
SUMMARY:Walking & Toning - Jan. 20th
URL;VALUE=URI:https://www.wildernesslakecdd.org/calendar/3651298/walking-to
 ning-jan-20th
DTSTART:20230120T143000Z
DTEND:20230120T154500Z
END:VEVENT
END:VCALENDAR
