BEGIN:VCALENDAR
VERSION:2.0
PRODID:SchoolNow
CALSCALE:GREGORIAN
BEGIN:VEVENT
UID:3362b690-84ff-11ed-830d-0224f908201d
DTSTAMP:20221226T092513Z
SUMMARY:Pickleball - Jan. 19th
URL;VALUE=URI:https://www.wildernesslakecdd.org/calendar/3651297/pickleball
 -jan-19th
DTSTART:20230119T233000Z
DTEND:20230120T003000Z
END:VEVENT
END:VCALENDAR
