BEGIN:VCALENDAR
VERSION:2.0
PRODID:SchoolNow
CALSCALE:GREGORIAN
BEGIN:VEVENT
UID:fd38244c-84fe-11ed-bc88-0224f908201d
DTSTAMP:20221226T092342Z
SUMMARY:Yoga - Jan. 19th - Class 2
URL;VALUE=URI:https://www.wildernesslakecdd.org/calendar/3651296/yoga-jan-1
 9th-class-2
DTSTART:20230119T145500Z
DTEND:20230119T155500Z
END:VEVENT
END:VCALENDAR
