BEGIN:VCALENDAR
VERSION:2.0
PRODID:SchoolNow
CALSCALE:GREGORIAN
BEGIN:VEVENT
UID:8cda1ab6-84fe-11ed-ad4e-0ef0030343ab
DTSTAMP:20221226T092033Z
SUMMARY:Yoga - Jan. 19th - Class 1
URL;VALUE=URI:https://www.wildernesslakecdd.org/calendar/3651295/yoga-jan-1
 9th-class-1
DTSTART:20230119T134500Z
DTEND:20230119T144500Z
END:VEVENT
END:VCALENDAR
