BEGIN:VCALENDAR
VERSION:2.0
PRODID:SchoolNow
CALSCALE:GREGORIAN
BEGIN:VEVENT
UID:55b289e2-84fe-11ed-a4c6-0275e343fdd5
DTSTAMP:20221226T091901Z
SUMMARY:Food Truck - Jan. 18th
URL;VALUE=URI:https://www.wildernesslakecdd.org/calendar/3651294/food-truck
 -jan-18th
DTSTART:20230118T223000Z
DTEND:20230119T003000Z
END:VEVENT
END:VCALENDAR
