BEGIN:VCALENDAR
VERSION:2.0
PRODID:SchoolNow
CALSCALE:GREGORIAN
BEGIN:VEVENT
UID:0485b724-84fe-11ed-abd3-0e934fd18cc5
DTSTAMP:20221226T091645Z
SUMMARY:Bible Study - Jan. 18th
URL;VALUE=URI:https://www.wildernesslakecdd.org/calendar/3651293/bible-stud
 y-jan-18th
DTSTART:20230118T150000Z
DTEND:20230118T160000Z
END:VEVENT
END:VCALENDAR
