BEGIN:VCALENDAR
VERSION:2.0
PRODID:SchoolNow
CALSCALE:GREGORIAN
BEGIN:VEVENT
UID:d9d7eb46-84fd-11ed-95cc-0e934fd18cc5
DTSTAMP:20221226T091533Z
SUMMARY:Walking & Toning - Jan. 18th
URL;VALUE=URI:https://www.wildernesslakecdd.org/calendar/3651292/walking-to
 ning-jan-18th
DTSTART:20230118T143000Z
DTEND:20230118T154500Z
END:VEVENT
END:VCALENDAR
