BEGIN:VCALENDAR
VERSION:2.0
PRODID:SchoolNow
CALSCALE:GREGORIAN
BEGIN:VEVENT
UID:a69a8e00-84fd-11ed-858e-0e934fd18cc5
DTSTAMP:20230115T121719Z
SUMMARY:Pickleball - Jan. 17th
URL;VALUE=URI:https://www.wildernesslakecdd.org/calendar/3651291/pickleball
 -jan-17th
DTSTART:20230117T233000Z
DTEND:20230118T003000Z
END:VEVENT
END:VCALENDAR
