BEGIN:VCALENDAR
VERSION:2.0
PRODID:SchoolNow
CALSCALE:GREGORIAN
BEGIN:VEVENT
UID:7cce5c50-84fd-11ed-a3ff-0e934fd18cc5
DTSTAMP:20221226T091257Z
SUMMARY:Yoga - Jan. 17th - Class 2
URL;VALUE=URI:https://www.wildernesslakecdd.org/calendar/3651290/yoga-jan-1
 7th-class-2
DTSTART:20230117T145500Z
DTEND:20230117T155500Z
END:VEVENT
END:VCALENDAR
