BEGIN:VCALENDAR
VERSION:2.0
PRODID:SchoolNow
CALSCALE:GREGORIAN
BEGIN:VEVENT
UID:55ebbaba-84fd-11ed-b0c6-0e934fd18cc5
DTSTAMP:20221226T091152Z
SUMMARY:Yoga - Jan. 17th - Class 1
URL;VALUE=URI:https://www.wildernesslakecdd.org/calendar/3651289/yoga-jan-1
 7th-class-1
DTSTART:20230117T134500Z
DTEND:20230117T144500Z
END:VEVENT
END:VCALENDAR
