BEGIN:VCALENDAR
VERSION:2.0
PRODID:SchoolNow
CALSCALE:GREGORIAN
BEGIN:VEVENT
UID:a78cdd82-84fc-11ed-bd98-0a29160e2747
DTSTAMP:20221226T090659Z
SUMMARY:Storytime - Jan. 16th
URL;VALUE=URI:https://www.wildernesslakecdd.org/calendar/3651288/storytime-
 jan-16th
DTSTART:20230116T150000Z
DTEND:20230116T160000Z
END:VEVENT
END:VCALENDAR
