BEGIN:VCALENDAR
VERSION:2.0
PRODID:SchoolNow
CALSCALE:GREGORIAN
BEGIN:VEVENT
UID:837b973a-84fc-11ed-bf29-0a29160e2747
DTSTAMP:20221226T090559Z
SUMMARY:Water Aerobics - Jan. 16th
URL;VALUE=URI:https://www.wildernesslakecdd.org/calendar/3651287/water-aero
 bics-jan-16th
DTSTART:20230116T140000Z
DTEND:20230116T150000Z
END:VEVENT
END:VCALENDAR
