BEGIN:VCALENDAR
VERSION:2.0
PRODID:SchoolNow
CALSCALE:GREGORIAN
BEGIN:VEVENT
UID:98802dfe-84fb-11ed-a4ae-0a29160e2747
DTSTAMP:20221226T085924Z
SUMMARY:Walking & Toning - Jan. 16th
URL;VALUE=URI:https://www.wildernesslakecdd.org/calendar/3651286/walking-to
 ning-jan-16th
DTSTART:20230116T143000Z
DTEND:20230116T154500Z
END:VEVENT
END:VCALENDAR
