BEGIN:VCALENDAR
VERSION:2.0
PRODID:SchoolNow
CALSCALE:GREGORIAN
BEGIN:VEVENT
UID:b6a66c86-84fa-11ed-b422-0ed36fcd01ef
DTSTAMP:20221226T085609Z
SUMMARY:Comedy - Jan. 14th
URL;VALUE=URI:https://www.wildernesslakecdd.org/calendar/3651285/comedy-jan
 -14th
DTSTART:20230114T234500Z
DTEND:20230115T004500Z
END:VEVENT
END:VCALENDAR
