BEGIN:VCALENDAR
VERSION:2.0
PRODID:SchoolNow
CALSCALE:GREGORIAN
BEGIN:VEVENT
UID:60822854-84fa-11ed-bdda-0275e343fdd5
DTSTAMP:20221226T085041Z
SUMMARY:Sip & Paint - Jan. 13th
URL;VALUE=URI:https://www.wildernesslakecdd.org/calendar/3651284/sip-paint-
 jan-13th
DTSTART:20230113T230000Z
DTEND:20230114T020000Z
END:VEVENT
END:VCALENDAR
