BEGIN:VCALENDAR
VERSION:2.0
PRODID:SchoolNow
CALSCALE:GREGORIAN
BEGIN:VEVENT
UID:2294bb42-84fa-11ed-9cca-02193fb3b051
DTSTAMP:20221226T084857Z
SUMMARY:Water Aerobics - Jan. 13th
URL;VALUE=URI:https://www.wildernesslakecdd.org/calendar/3651283/water-aero
 bics-jan-13th
DTSTART:20230113T140000Z
DTEND:20230113T150000Z
END:VEVENT
END:VCALENDAR
