BEGIN:VCALENDAR
VERSION:2.0
PRODID:SchoolNow
CALSCALE:GREGORIAN
BEGIN:VEVENT
UID:e2b0c89a-84f9-11ed-996f-0275e343fdd5
DTSTAMP:20221226T084710Z
SUMMARY:Walking & Toning - Jan. 13th
URL;VALUE=URI:https://www.wildernesslakecdd.org/calendar/3651282/walking-to
 ning-jan-13th
DTSTART:20230113T143000Z
DTEND:20230113T154500Z
END:VEVENT
END:VCALENDAR
