BEGIN:VCALENDAR
VERSION:2.0
PRODID:SchoolNow
CALSCALE:GREGORIAN
BEGIN:VEVENT
UID:022c94b8-84f7-11ed-9afd-0e87a58c70cb
DTSTAMP:20221226T082634Z
SUMMARY:Pickleball - Jan. 12th
URL;VALUE=URI:https://www.wildernesslakecdd.org/calendar/3651281/pickleball
 -jan-12th
DTSTART:20230112T233000Z
DTEND:20230113T003000Z
END:VEVENT
END:VCALENDAR
