BEGIN:VCALENDAR
VERSION:2.0
PRODID:SchoolNow
CALSCALE:GREGORIAN
BEGIN:VEVENT
UID:a0a76754-84f6-11ed-bdda-0a29160e2747
DTSTAMP:20221226T082351Z
SUMMARY:Chatters Meet & Greet - Jan. 12th
URL;VALUE=URI:https://www.wildernesslakecdd.org/calendar/3651280/chatters-m
 eet-greet-jan-12th
DTSTART:20230112T170000Z
DTEND:20230112T190000Z
END:VEVENT
END:VCALENDAR
