BEGIN:VCALENDAR
VERSION:2.0
PRODID:SchoolNow
CALSCALE:GREGORIAN
BEGIN:VEVENT
UID:19962598-84f6-11ed-a257-0a0d88bb8697
DTSTAMP:20221226T082004Z
SUMMARY:Yoga - Jan. 12th - Class 2
URL;VALUE=URI:https://www.wildernesslakecdd.org/calendar/3651279/yoga-jan-1
 2th-class-2
DTSTART:20230112T145500Z
DTEND:20230112T155500Z
END:VEVENT
END:VCALENDAR
