BEGIN:VCALENDAR
VERSION:2.0
PRODID:SchoolNow
CALSCALE:GREGORIAN
BEGIN:VEVENT
UID:f1096ae0-84f5-11ed-8023-0a0d88bb8697
DTSTAMP:20221226T081856Z
SUMMARY:Yoga - Jan. 12th - Class 1
URL;VALUE=URI:https://www.wildernesslakecdd.org/calendar/3651278/yoga-jan-1
 2th-class-1
DTSTART:20230112T134500Z
DTEND:20230112T144500Z
END:VEVENT
END:VCALENDAR
